BEGIN:VCALENDAR
VERSION:2.0
PRODID:-//The American Legion Post 348 - ECPv6.15.13.1//NONSGML v1.0//EN
CALSCALE:GREGORIAN
METHOD:PUBLISH
X-ORIGINAL-URL:https://legion348.org
X-WR-CALDESC:Events for The American Legion Post 348
REFRESH-INTERVAL;VALUE=DURATION:PT1H
X-Robots-Tag:noindex
X-PUBLISHED-TTL:PT1H
BEGIN:VTIMEZONE
TZID:America/Los_Angeles
BEGIN:DAYLIGHT
TZOFFSETFROM:-0800
TZOFFSETTO:-0700
TZNAME:PDT
DTSTART:20240310T100000
END:DAYLIGHT
BEGIN:STANDARD
TZOFFSETFROM:-0700
TZOFFSETTO:-0800
TZNAME:PST
DTSTART:20241103T090000
END:STANDARD
BEGIN:DAYLIGHT
TZOFFSETFROM:-0800
TZOFFSETTO:-0700
TZNAME:PDT
DTSTART:20250309T100000
END:DAYLIGHT
BEGIN:STANDARD
TZOFFSETFROM:-0700
TZOFFSETTO:-0800
TZNAME:PST
DTSTART:20251102T090000
END:STANDARD
BEGIN:DAYLIGHT
TZOFFSETFROM:-0800
TZOFFSETTO:-0700
TZNAME:PDT
DTSTART:20260308T100000
END:DAYLIGHT
BEGIN:STANDARD
TZOFFSETFROM:-0700
TZOFFSETTO:-0800
TZNAME:PST
DTSTART:20261101T090000
END:STANDARD
BEGIN:DAYLIGHT
TZOFFSETFROM:-0800
TZOFFSETTO:-0700
TZNAME:PDT
DTSTART:20270314T100000
END:DAYLIGHT
BEGIN:STANDARD
TZOFFSETFROM:-0700
TZOFFSETTO:-0800
TZNAME:PST
DTSTART:20271107T090000
END:STANDARD
END:VTIMEZONE
BEGIN:VEVENT
DTSTART;TZID=America/Los_Angeles:20260412T080000
DTEND;TZID=America/Los_Angeles:20260412T170000
DTSTAMP:20260421T060912
CREATED:20260306T005714Z
LAST-MODIFIED:20260306T005714Z
UID:492-1775980800-1776013200@legion348.org
SUMMARY:April Meeting
DESCRIPTION:Legion 10:00 am |\nALR 11:00 am |\nAuxiliary 12:00 pm |\nSALS 1:00 pm
URL:https://legion348.org/event/april-meeting/
LOCATION:Meeting Venue:\, 38260 10th St E\, Palmdale\, CA\, 93550\, United States
END:VEVENT
BEGIN:VEVENT
DTSTART;TZID=America/Los_Angeles:20260308T080000
DTEND;TZID=America/Los_Angeles:20260308T170000
DTSTAMP:20260421T060912
CREATED:20260306T005638Z
LAST-MODIFIED:20260306T005638Z
UID:490-1772956800-1772989200@legion348.org
SUMMARY:March Meeting
DESCRIPTION:Legion 10:00 am |\nALR 11:00 am |\nAuxiliary 12:00 pm |\nSALS 1:00 pm
URL:https://legion348.org/event/march-meeting/
LOCATION:Meeting Venue:\, 38260 10th St E\, Palmdale\, CA\, 93550\, United States
END:VEVENT
BEGIN:VEVENT
DTSTART;TZID=America/Los_Angeles:20260208T080000
DTEND;TZID=America/Los_Angeles:20260208T170000
DTSTAMP:20260421T060912
CREATED:20251126T214858Z
LAST-MODIFIED:20251126T214858Z
UID:484-1770537600-1770570000@legion348.org
SUMMARY:February Meeting
DESCRIPTION:Legion 10:00 am |\nALR 11:00 am |\nAuxiliary 12:00 pm |\nSALS 1:00 pm \n 
URL:https://legion348.org/event/february-meeting/
LOCATION:Meeting Venue:\, 38260 10th St E\, Palmdale\, CA\, 93550\, United States
END:VEVENT
BEGIN:VEVENT
DTSTART;TZID=America/Los_Angeles:20260111T080000
DTEND;TZID=America/Los_Angeles:20260111T170000
DTSTAMP:20260421T060912
CREATED:20251126T214812Z
LAST-MODIFIED:20251126T214812Z
UID:482-1768118400-1768150800@legion348.org
SUMMARY:January Meeting
DESCRIPTION:Legion 10:00 am |\nALR 11:00 am |\nAuxiliary 12:00 pm |\nSALS 1:00 pm \n 
URL:https://legion348.org/event/january-meeting/
LOCATION:Meeting Venue:\, 38260 10th St E\, Palmdale\, CA\, 93550\, United States
END:VEVENT
BEGIN:VEVENT
DTSTART;TZID=America/Los_Angeles:20251214T080000
DTEND;TZID=America/Los_Angeles:20251214T170000
DTSTAMP:20260421T060912
CREATED:20250827T195346Z
LAST-MODIFIED:20251126T214735Z
UID:458-1765699200-1765731600@legion348.org
SUMMARY:December Meeting
DESCRIPTION:Legion 10:00 am |\nALR 11:00 am |\nAuxiliary 12:00 pm |\nSALS 1:00 pm \n 
URL:https://legion348.org/event/december-meeting/
LOCATION:Meeting Venue:\, 38260 10th St E\, Palmdale\, CA\, 93550\, United States
END:VEVENT
END:VCALENDAR